BEGIN:VCALENDAR
VERSION:2.0
PRODID:-//Tracy City Center Association - ECPv6.15.20//NONSGML v1.0//EN
CALSCALE:GREGORIAN
METHOD:PUBLISH
X-WR-CALNAME:Tracy City Center Association
X-ORIGINAL-URL:https://tracycitycenter.com
X-WR-CALDESC:Events for Tracy City Center Association
REFRESH-INTERVAL;VALUE=DURATION:PT1H
X-Robots-Tag:noindex
X-PUBLISHED-TTL:PT1H
BEGIN:VTIMEZONE
TZID:America/Los_Angeles
BEGIN:DAYLIGHT
TZOFFSETFROM:-0800
TZOFFSETTO:-0700
TZNAME:PDT
DTSTART:20260308T100000
END:DAYLIGHT
BEGIN:STANDARD
TZOFFSETFROM:-0700
TZOFFSETTO:-0800
TZNAME:PST
DTSTART:20261101T090000
END:STANDARD
BEGIN:DAYLIGHT
TZOFFSETFROM:-0800
TZOFFSETTO:-0700
TZNAME:PDT
DTSTART:20270314T100000
END:DAYLIGHT
BEGIN:STANDARD
TZOFFSETFROM:-0700
TZOFFSETTO:-0800
TZNAME:PST
DTSTART:20271107T090000
END:STANDARD
BEGIN:DAYLIGHT
TZOFFSETFROM:-0800
TZOFFSETTO:-0700
TZNAME:PDT
DTSTART:20280312T100000
END:DAYLIGHT
BEGIN:STANDARD
TZOFFSETFROM:-0700
TZOFFSETTO:-0800
TZNAME:PST
DTSTART:20281105T090000
END:STANDARD
END:VTIMEZONE
BEGIN:VEVENT
DTSTART;TZID=America/Los_Angeles:20270807T080000
DTEND;TZID=America/Los_Angeles:20270807T130000
DTSTAMP:20260421T175639
CREATED:20230816T010431Z
LAST-MODIFIED:20240430T040333Z
UID:10001889-1817625600-1817643600@tracycitycenter.com
SUMMARY:Downtown Tracy Farmers' Market
DESCRIPTION:Make the Saturday Downtown Tracy Farmer’s Market a part of your weekend routine.  Year round Market from 8-1pm! \nYou’ll find the freshest fruits and veggies\, colorful bouquets\, and yummy pastries and other prepared foods. We’ll see you there!  \n  \n \n  \n 
URL:https://tracycitycenter.com/event/downtown-tracy-farmers-market-7-22-23-2/2027-08-07
LOCATION:Downtown Tracy Farmers’ Market\, North Central Avenue & 9th Street\, Tracy\, CA\, 95376\, United States
CATEGORIES:Events,Farmers' Market
ATTACH;FMTTYPE=image/jpeg:https://tracycitycenter.com/wp-content/uploads/FarmersMarket-24_IG-01-2.jpg
END:VEVENT
BEGIN:VEVENT
DTSTART;TZID=America/Los_Angeles:20270814T080000
DTEND;TZID=America/Los_Angeles:20270814T130000
DTSTAMP:20260421T175639
CREATED:20230816T010431Z
LAST-MODIFIED:20240430T040333Z
UID:10001890-1818230400-1818248400@tracycitycenter.com
SUMMARY:Downtown Tracy Farmers' Market
DESCRIPTION:Make the Saturday Downtown Tracy Farmer’s Market a part of your weekend routine.  Year round Market from 8-1pm! \nYou’ll find the freshest fruits and veggies\, colorful bouquets\, and yummy pastries and other prepared foods. We’ll see you there!  \n  \n \n  \n 
URL:https://tracycitycenter.com/event/downtown-tracy-farmers-market-7-22-23-2/2027-08-14
LOCATION:Downtown Tracy Farmers’ Market\, North Central Avenue & 9th Street\, Tracy\, CA\, 95376\, United States
CATEGORIES:Events,Farmers' Market
ATTACH;FMTTYPE=image/jpeg:https://tracycitycenter.com/wp-content/uploads/FarmersMarket-24_IG-01-2.jpg
END:VEVENT
BEGIN:VEVENT
DTSTART;TZID=America/Los_Angeles:20270821T080000
DTEND;TZID=America/Los_Angeles:20270821T130000
DTSTAMP:20260421T175639
CREATED:20230816T010431Z
LAST-MODIFIED:20240430T040333Z
UID:10001891-1818835200-1818853200@tracycitycenter.com
SUMMARY:Downtown Tracy Farmers' Market
DESCRIPTION:Make the Saturday Downtown Tracy Farmer’s Market a part of your weekend routine.  Year round Market from 8-1pm! \nYou’ll find the freshest fruits and veggies\, colorful bouquets\, and yummy pastries and other prepared foods. We’ll see you there!  \n  \n \n  \n 
URL:https://tracycitycenter.com/event/downtown-tracy-farmers-market-7-22-23-2/2027-08-21
LOCATION:Downtown Tracy Farmers’ Market\, North Central Avenue & 9th Street\, Tracy\, CA\, 95376\, United States
CATEGORIES:Events,Farmers' Market
ATTACH;FMTTYPE=image/jpeg:https://tracycitycenter.com/wp-content/uploads/FarmersMarket-24_IG-01-2.jpg
END:VEVENT
BEGIN:VEVENT
DTSTART;TZID=America/Los_Angeles:20270828T080000
DTEND;TZID=America/Los_Angeles:20270828T130000
DTSTAMP:20260421T175639
CREATED:20230816T010431Z
LAST-MODIFIED:20240430T040333Z
UID:10001892-1819440000-1819458000@tracycitycenter.com
SUMMARY:Downtown Tracy Farmers' Market
DESCRIPTION:Make the Saturday Downtown Tracy Farmer’s Market a part of your weekend routine.  Year round Market from 8-1pm! \nYou’ll find the freshest fruits and veggies\, colorful bouquets\, and yummy pastries and other prepared foods. We’ll see you there!  \n  \n \n  \n 
URL:https://tracycitycenter.com/event/downtown-tracy-farmers-market-7-22-23-2/2027-08-28
LOCATION:Downtown Tracy Farmers’ Market\, North Central Avenue & 9th Street\, Tracy\, CA\, 95376\, United States
CATEGORIES:Events,Farmers' Market
ATTACH;FMTTYPE=image/jpeg:https://tracycitycenter.com/wp-content/uploads/FarmersMarket-24_IG-01-2.jpg
END:VEVENT
END:VCALENDAR