BEGIN:VCALENDAR
VERSION:2.0
PRODID:-//Tracy City Center Association - ECPv6.15.20//NONSGML v1.0//EN
CALSCALE:GREGORIAN
METHOD:PUBLISH
X-ORIGINAL-URL:https://tracycitycenter.com
X-WR-CALDESC:Events for Tracy City Center Association
REFRESH-INTERVAL;VALUE=DURATION:PT1H
X-Robots-Tag:noindex
X-PUBLISHED-TTL:PT1H
BEGIN:VTIMEZONE
TZID:America/Los_Angeles
BEGIN:DAYLIGHT
TZOFFSETFROM:-0800
TZOFFSETTO:-0700
TZNAME:PDT
DTSTART:20260308T100000
END:DAYLIGHT
BEGIN:STANDARD
TZOFFSETFROM:-0700
TZOFFSETTO:-0800
TZNAME:PST
DTSTART:20261101T090000
END:STANDARD
BEGIN:DAYLIGHT
TZOFFSETFROM:-0800
TZOFFSETTO:-0700
TZNAME:PDT
DTSTART:20270314T100000
END:DAYLIGHT
BEGIN:STANDARD
TZOFFSETFROM:-0700
TZOFFSETTO:-0800
TZNAME:PST
DTSTART:20271107T090000
END:STANDARD
BEGIN:DAYLIGHT
TZOFFSETFROM:-0800
TZOFFSETTO:-0700
TZNAME:PDT
DTSTART:20280312T100000
END:DAYLIGHT
BEGIN:STANDARD
TZOFFSETFROM:-0700
TZOFFSETTO:-0800
TZNAME:PST
DTSTART:20281105T090000
END:STANDARD
END:VTIMEZONE
BEGIN:VEVENT
DTSTART;TZID=America/Los_Angeles:20270403T080000
DTEND;TZID=America/Los_Angeles:20270403T130000
DTSTAMP:20260421T113242
CREATED:20230816T010431Z
LAST-MODIFIED:20240430T040333Z
UID:10001871-1806739200-1806757200@tracycitycenter.com
SUMMARY:Downtown Tracy Farmers' Market
DESCRIPTION:Make the Saturday Downtown Tracy Farmer’s Market a part of your weekend routine.  Year round Market from 8-1pm! \nYou’ll find the freshest fruits and veggies\, colorful bouquets\, and yummy pastries and other prepared foods. We’ll see you there!  \n  \n \n  \n 
URL:https://tracycitycenter.com/event/downtown-tracy-farmers-market-7-22-23-2/2027-04-03
LOCATION:Downtown Tracy Farmers’ Market\, North Central Avenue & 9th Street\, Tracy\, CA\, 95376\, United States
CATEGORIES:Events,Farmers' Market
ATTACH;FMTTYPE=image/jpeg:https://tracycitycenter.com/wp-content/uploads/FarmersMarket-24_IG-01-2.jpg
END:VEVENT
BEGIN:VEVENT
DTSTART;TZID=America/Los_Angeles:20270410T080000
DTEND;TZID=America/Los_Angeles:20270410T130000
DTSTAMP:20260421T113242
CREATED:20230816T010431Z
LAST-MODIFIED:20240430T040333Z
UID:10001872-1807344000-1807362000@tracycitycenter.com
SUMMARY:Downtown Tracy Farmers' Market
DESCRIPTION:Make the Saturday Downtown Tracy Farmer’s Market a part of your weekend routine.  Year round Market from 8-1pm! \nYou’ll find the freshest fruits and veggies\, colorful bouquets\, and yummy pastries and other prepared foods. We’ll see you there!  \n  \n \n  \n 
URL:https://tracycitycenter.com/event/downtown-tracy-farmers-market-7-22-23-2/2027-04-10
LOCATION:Downtown Tracy Farmers’ Market\, North Central Avenue & 9th Street\, Tracy\, CA\, 95376\, United States
CATEGORIES:Events,Farmers' Market
ATTACH;FMTTYPE=image/jpeg:https://tracycitycenter.com/wp-content/uploads/FarmersMarket-24_IG-01-2.jpg
END:VEVENT
BEGIN:VEVENT
DTSTART;TZID=America/Los_Angeles:20270417T080000
DTEND;TZID=America/Los_Angeles:20270417T130000
DTSTAMP:20260421T113242
CREATED:20230816T010431Z
LAST-MODIFIED:20240430T040333Z
UID:10001873-1807948800-1807966800@tracycitycenter.com
SUMMARY:Downtown Tracy Farmers' Market
DESCRIPTION:Make the Saturday Downtown Tracy Farmer’s Market a part of your weekend routine.  Year round Market from 8-1pm! \nYou’ll find the freshest fruits and veggies\, colorful bouquets\, and yummy pastries and other prepared foods. We’ll see you there!  \n  \n \n  \n 
URL:https://tracycitycenter.com/event/downtown-tracy-farmers-market-7-22-23-2/2027-04-17
LOCATION:Downtown Tracy Farmers’ Market\, North Central Avenue & 9th Street\, Tracy\, CA\, 95376\, United States
CATEGORIES:Events,Farmers' Market
ATTACH;FMTTYPE=image/jpeg:https://tracycitycenter.com/wp-content/uploads/FarmersMarket-24_IG-01-2.jpg
END:VEVENT
BEGIN:VEVENT
DTSTART;TZID=America/Los_Angeles:20270424T080000
DTEND;TZID=America/Los_Angeles:20270424T130000
DTSTAMP:20260421T113242
CREATED:20230816T010431Z
LAST-MODIFIED:20240430T040333Z
UID:10001874-1808553600-1808571600@tracycitycenter.com
SUMMARY:Downtown Tracy Farmers' Market
DESCRIPTION:Make the Saturday Downtown Tracy Farmer’s Market a part of your weekend routine.  Year round Market from 8-1pm! \nYou’ll find the freshest fruits and veggies\, colorful bouquets\, and yummy pastries and other prepared foods. We’ll see you there!  \n  \n \n  \n 
URL:https://tracycitycenter.com/event/downtown-tracy-farmers-market-7-22-23-2/2027-04-24
LOCATION:Downtown Tracy Farmers’ Market\, North Central Avenue & 9th Street\, Tracy\, CA\, 95376\, United States
CATEGORIES:Events,Farmers' Market
ATTACH;FMTTYPE=image/jpeg:https://tracycitycenter.com/wp-content/uploads/FarmersMarket-24_IG-01-2.jpg
END:VEVENT
END:VCALENDAR