BEGIN:VCALENDAR
VERSION:2.0
PRODID:-//Tracy City Center Association - ECPv6.15.20//NONSGML v1.0//EN
CALSCALE:GREGORIAN
METHOD:PUBLISH
X-WR-CALNAME:Tracy City Center Association
X-ORIGINAL-URL:https://tracycitycenter.com
X-WR-CALDESC:Events for Tracy City Center Association
REFRESH-INTERVAL;VALUE=DURATION:PT1H
X-Robots-Tag:noindex
X-PUBLISHED-TTL:PT1H
BEGIN:VTIMEZONE
TZID:America/Los_Angeles
BEGIN:DAYLIGHT
TZOFFSETFROM:-0800
TZOFFSETTO:-0700
TZNAME:PDT
DTSTART:20220313T100000
END:DAYLIGHT
BEGIN:STANDARD
TZOFFSETFROM:-0700
TZOFFSETTO:-0800
TZNAME:PST
DTSTART:20221106T090000
END:STANDARD
BEGIN:DAYLIGHT
TZOFFSETFROM:-0800
TZOFFSETTO:-0700
TZNAME:PDT
DTSTART:20230312T100000
END:DAYLIGHT
BEGIN:STANDARD
TZOFFSETFROM:-0700
TZOFFSETTO:-0800
TZNAME:PST
DTSTART:20231105T090000
END:STANDARD
BEGIN:DAYLIGHT
TZOFFSETFROM:-0800
TZOFFSETTO:-0700
TZNAME:PDT
DTSTART:20240310T100000
END:DAYLIGHT
BEGIN:STANDARD
TZOFFSETFROM:-0700
TZOFFSETTO:-0800
TZNAME:PST
DTSTART:20241103T090000
END:STANDARD
BEGIN:DAYLIGHT
TZOFFSETFROM:-0800
TZOFFSETTO:-0700
TZNAME:PDT
DTSTART:20250309T100000
END:DAYLIGHT
BEGIN:STANDARD
TZOFFSETFROM:-0700
TZOFFSETTO:-0800
TZNAME:PST
DTSTART:20251102T090000
END:STANDARD
END:VTIMEZONE
BEGIN:VEVENT
DTSTART;TZID=America/Los_Angeles:20240713T080000
DTEND;TZID=America/Los_Angeles:20240713T130000
DTSTAMP:20260420T010046
CREATED:20230816T010431Z
LAST-MODIFIED:20240430T040333Z
UID:10001729-1720857600-1720875600@tracycitycenter.com
SUMMARY:Downtown Tracy Farmers' Market
DESCRIPTION:Make the Saturday Downtown Tracy Farmer’s Market a part of your weekend routine.  Year round Market from 8-1pm! \nYou’ll find the freshest fruits and veggies\, colorful bouquets\, and yummy pastries and other prepared foods. We’ll see you there!  \n  \n \n  \n 
URL:https://tracycitycenter.com/event/downtown-tracy-farmers-market-7-22-23-2/2024-07-13
LOCATION:Downtown Tracy Farmers’ Market\, North Central Avenue & 9th Street\, Tracy\, CA\, 95376\, United States
CATEGORIES:Events,Farmers' Market
ATTACH;FMTTYPE=image/jpeg:https://tracycitycenter.com/wp-content/uploads/FarmersMarket-24_IG-01-2.jpg
END:VEVENT
BEGIN:VEVENT
DTSTART;TZID=America/Los_Angeles:20240706T080000
DTEND;TZID=America/Los_Angeles:20240706T130000
DTSTAMP:20260420T010046
CREATED:20230816T010431Z
LAST-MODIFIED:20240430T040333Z
UID:10001728-1720252800-1720270800@tracycitycenter.com
SUMMARY:Downtown Tracy Farmers' Market
DESCRIPTION:Make the Saturday Downtown Tracy Farmer’s Market a part of your weekend routine.  Year round Market from 8-1pm! \nYou’ll find the freshest fruits and veggies\, colorful bouquets\, and yummy pastries and other prepared foods. We’ll see you there!  \n  \n \n  \n 
URL:https://tracycitycenter.com/event/downtown-tracy-farmers-market-7-22-23-2/2024-07-06
LOCATION:Downtown Tracy Farmers’ Market\, North Central Avenue & 9th Street\, Tracy\, CA\, 95376\, United States
CATEGORIES:Events,Farmers' Market
ATTACH;FMTTYPE=image/jpeg:https://tracycitycenter.com/wp-content/uploads/FarmersMarket-24_IG-01-2.jpg
END:VEVENT
BEGIN:VEVENT
DTSTART;TZID=America/Los_Angeles:20240629T080000
DTEND;TZID=America/Los_Angeles:20240629T130000
DTSTAMP:20260420T010046
CREATED:20230816T010431Z
LAST-MODIFIED:20240430T040333Z
UID:10001727-1719648000-1719666000@tracycitycenter.com
SUMMARY:Downtown Tracy Farmers' Market
DESCRIPTION:Make the Saturday Downtown Tracy Farmer’s Market a part of your weekend routine.  Year round Market from 8-1pm! \nYou’ll find the freshest fruits and veggies\, colorful bouquets\, and yummy pastries and other prepared foods. We’ll see you there!  \n  \n \n  \n 
URL:https://tracycitycenter.com/event/downtown-tracy-farmers-market-7-22-23-2/2024-06-29
LOCATION:Downtown Tracy Farmers’ Market\, North Central Avenue & 9th Street\, Tracy\, CA\, 95376\, United States
CATEGORIES:Events,Farmers' Market
ATTACH;FMTTYPE=image/jpeg:https://tracycitycenter.com/wp-content/uploads/FarmersMarket-24_IG-01-2.jpg
END:VEVENT
BEGIN:VEVENT
DTSTART;TZID=America/Los_Angeles:20240622T080000
DTEND;TZID=America/Los_Angeles:20240622T130000
DTSTAMP:20260420T010046
CREATED:20230816T010431Z
LAST-MODIFIED:20240430T040333Z
UID:10001726-1719043200-1719061200@tracycitycenter.com
SUMMARY:Downtown Tracy Farmers' Market
DESCRIPTION:Make the Saturday Downtown Tracy Farmer’s Market a part of your weekend routine.  Year round Market from 8-1pm! \nYou’ll find the freshest fruits and veggies\, colorful bouquets\, and yummy pastries and other prepared foods. We’ll see you there!  \n  \n \n  \n 
URL:https://tracycitycenter.com/event/downtown-tracy-farmers-market-7-22-23-2/2024-06-22
LOCATION:Downtown Tracy Farmers’ Market\, North Central Avenue & 9th Street\, Tracy\, CA\, 95376\, United States
CATEGORIES:Events,Farmers' Market
ATTACH;FMTTYPE=image/jpeg:https://tracycitycenter.com/wp-content/uploads/FarmersMarket-24_IG-01-2.jpg
END:VEVENT
BEGIN:VEVENT
DTSTART;TZID=America/Los_Angeles:20240615T080000
DTEND;TZID=America/Los_Angeles:20240615T130000
DTSTAMP:20260420T010046
CREATED:20230816T010431Z
LAST-MODIFIED:20240430T040333Z
UID:10001725-1718438400-1718456400@tracycitycenter.com
SUMMARY:Downtown Tracy Farmers' Market
DESCRIPTION:Make the Saturday Downtown Tracy Farmer’s Market a part of your weekend routine.  Year round Market from 8-1pm! \nYou’ll find the freshest fruits and veggies\, colorful bouquets\, and yummy pastries and other prepared foods. We’ll see you there!  \n  \n \n  \n 
URL:https://tracycitycenter.com/event/downtown-tracy-farmers-market-7-22-23-2/2024-06-15
LOCATION:Downtown Tracy Farmers’ Market\, North Central Avenue & 9th Street\, Tracy\, CA\, 95376\, United States
CATEGORIES:Events,Farmers' Market
ATTACH;FMTTYPE=image/jpeg:https://tracycitycenter.com/wp-content/uploads/FarmersMarket-24_IG-01-2.jpg
END:VEVENT
BEGIN:VEVENT
DTSTART;TZID=America/Los_Angeles:20240608T080000
DTEND;TZID=America/Los_Angeles:20240608T130000
DTSTAMP:20260420T010046
CREATED:20230816T010431Z
LAST-MODIFIED:20240430T040333Z
UID:10001724-1717833600-1717851600@tracycitycenter.com
SUMMARY:Downtown Tracy Farmers' Market
DESCRIPTION:Make the Saturday Downtown Tracy Farmer’s Market a part of your weekend routine.  Year round Market from 8-1pm! \nYou’ll find the freshest fruits and veggies\, colorful bouquets\, and yummy pastries and other prepared foods. We’ll see you there!  \n  \n \n  \n 
URL:https://tracycitycenter.com/event/downtown-tracy-farmers-market-7-22-23-2/2024-06-08
LOCATION:Downtown Tracy Farmers’ Market\, North Central Avenue & 9th Street\, Tracy\, CA\, 95376\, United States
CATEGORIES:Events,Farmers' Market
ATTACH;FMTTYPE=image/jpeg:https://tracycitycenter.com/wp-content/uploads/FarmersMarket-24_IG-01-2.jpg
END:VEVENT
BEGIN:VEVENT
DTSTART;TZID=America/Los_Angeles:20240601T080000
DTEND;TZID=America/Los_Angeles:20240601T130000
DTSTAMP:20260420T010046
CREATED:20230816T010431Z
LAST-MODIFIED:20240430T040333Z
UID:10001723-1717228800-1717246800@tracycitycenter.com
SUMMARY:Downtown Tracy Farmers' Market
DESCRIPTION:Make the Saturday Downtown Tracy Farmer’s Market a part of your weekend routine.  Year round Market from 8-1pm! \nYou’ll find the freshest fruits and veggies\, colorful bouquets\, and yummy pastries and other prepared foods. We’ll see you there!  \n  \n \n  \n 
URL:https://tracycitycenter.com/event/downtown-tracy-farmers-market-7-22-23-2/2024-06-01
LOCATION:Downtown Tracy Farmers’ Market\, North Central Avenue & 9th Street\, Tracy\, CA\, 95376\, United States
CATEGORIES:Events,Farmers' Market
ATTACH;FMTTYPE=image/jpeg:https://tracycitycenter.com/wp-content/uploads/FarmersMarket-24_IG-01-2.jpg
END:VEVENT
BEGIN:VEVENT
DTSTART;TZID=America/Los_Angeles:20240525T080000
DTEND;TZID=America/Los_Angeles:20240525T130000
DTSTAMP:20260420T010046
CREATED:20230816T010431Z
LAST-MODIFIED:20240430T040333Z
UID:10001722-1716624000-1716642000@tracycitycenter.com
SUMMARY:Downtown Tracy Farmers' Market
DESCRIPTION:Make the Saturday Downtown Tracy Farmer’s Market a part of your weekend routine.  Year round Market from 8-1pm! \nYou’ll find the freshest fruits and veggies\, colorful bouquets\, and yummy pastries and other prepared foods. We’ll see you there!  \n  \n \n  \n 
URL:https://tracycitycenter.com/event/downtown-tracy-farmers-market-7-22-23-2/2024-05-25
LOCATION:Downtown Tracy Farmers’ Market\, North Central Avenue & 9th Street\, Tracy\, CA\, 95376\, United States
CATEGORIES:Events,Farmers' Market
ATTACH;FMTTYPE=image/jpeg:https://tracycitycenter.com/wp-content/uploads/FarmersMarket-24_IG-01-2.jpg
END:VEVENT
BEGIN:VEVENT
DTSTART;TZID=America/Los_Angeles:20240518T080000
DTEND;TZID=America/Los_Angeles:20240518T130000
DTSTAMP:20260420T010046
CREATED:20230816T010431Z
LAST-MODIFIED:20240430T040333Z
UID:10001721-1716019200-1716037200@tracycitycenter.com
SUMMARY:Downtown Tracy Farmers' Market
DESCRIPTION:Make the Saturday Downtown Tracy Farmer’s Market a part of your weekend routine.  Year round Market from 8-1pm! \nYou’ll find the freshest fruits and veggies\, colorful bouquets\, and yummy pastries and other prepared foods. We’ll see you there!  \n  \n \n  \n 
URL:https://tracycitycenter.com/event/downtown-tracy-farmers-market-7-22-23-2/2024-05-18
LOCATION:Downtown Tracy Farmers’ Market\, North Central Avenue & 9th Street\, Tracy\, CA\, 95376\, United States
CATEGORIES:Events,Farmers' Market
ATTACH;FMTTYPE=image/jpeg:https://tracycitycenter.com/wp-content/uploads/FarmersMarket-24_IG-01-2.jpg
END:VEVENT
BEGIN:VEVENT
DTSTART;TZID=America/Los_Angeles:20240511T080000
DTEND;TZID=America/Los_Angeles:20240511T130000
DTSTAMP:20260420T010046
CREATED:20230816T010431Z
LAST-MODIFIED:20240430T040333Z
UID:10001720-1715414400-1715432400@tracycitycenter.com
SUMMARY:Downtown Tracy Farmers' Market
DESCRIPTION:Make the Saturday Downtown Tracy Farmer’s Market a part of your weekend routine.  Year round Market from 8-1pm! \nYou’ll find the freshest fruits and veggies\, colorful bouquets\, and yummy pastries and other prepared foods. We’ll see you there!  \n  \n \n  \n 
URL:https://tracycitycenter.com/event/downtown-tracy-farmers-market-7-22-23-2/2024-05-11
LOCATION:Downtown Tracy Farmers’ Market\, North Central Avenue & 9th Street\, Tracy\, CA\, 95376\, United States
CATEGORIES:Events,Farmers' Market
ATTACH;FMTTYPE=image/jpeg:https://tracycitycenter.com/wp-content/uploads/FarmersMarket-24_IG-01-2.jpg
END:VEVENT
BEGIN:VEVENT
DTSTART;TZID=America/Los_Angeles:20240504T080000
DTEND;TZID=America/Los_Angeles:20240504T130000
DTSTAMP:20260420T010046
CREATED:20230816T010431Z
LAST-MODIFIED:20240430T040333Z
UID:10001719-1714809600-1714827600@tracycitycenter.com
SUMMARY:Downtown Tracy Farmers' Market
DESCRIPTION:Make the Saturday Downtown Tracy Farmer’s Market a part of your weekend routine.  Year round Market from 8-1pm! \nYou’ll find the freshest fruits and veggies\, colorful bouquets\, and yummy pastries and other prepared foods. We’ll see you there!  \n  \n \n  \n 
URL:https://tracycitycenter.com/event/downtown-tracy-farmers-market-7-22-23-2/2024-05-04
LOCATION:Downtown Tracy Farmers’ Market\, North Central Avenue & 9th Street\, Tracy\, CA\, 95376\, United States
CATEGORIES:Events,Farmers' Market
ATTACH;FMTTYPE=image/jpeg:https://tracycitycenter.com/wp-content/uploads/FarmersMarket-24_IG-01-2.jpg
END:VEVENT
BEGIN:VEVENT
DTSTART;TZID=America/Los_Angeles:20240427T080000
DTEND;TZID=America/Los_Angeles:20240427T130000
DTSTAMP:20260420T010046
CREATED:20230816T010431Z
LAST-MODIFIED:20240430T040333Z
UID:10001718-1714204800-1714222800@tracycitycenter.com
SUMMARY:Downtown Tracy Farmers' Market
DESCRIPTION:Make the Saturday Downtown Tracy Farmer’s Market a part of your weekend routine.  Year round Market from 8-1pm! \nYou’ll find the freshest fruits and veggies\, colorful bouquets\, and yummy pastries and other prepared foods. We’ll see you there!  \n  \n \n  \n 
URL:https://tracycitycenter.com/event/downtown-tracy-farmers-market-7-22-23-2/2024-04-27
LOCATION:Downtown Tracy Farmers’ Market\, North Central Avenue & 9th Street\, Tracy\, CA\, 95376\, United States
CATEGORIES:Events,Farmers' Market
ATTACH;FMTTYPE=image/jpeg:https://tracycitycenter.com/wp-content/uploads/FarmersMarket-24_IG-01-2.jpg
END:VEVENT
BEGIN:VEVENT
DTSTART;TZID=America/Los_Angeles:20240420T080000
DTEND;TZID=America/Los_Angeles:20240420T130000
DTSTAMP:20260420T010046
CREATED:20230816T010431Z
LAST-MODIFIED:20240430T040333Z
UID:10001717-1713600000-1713618000@tracycitycenter.com
SUMMARY:Downtown Tracy Farmers' Market
DESCRIPTION:Make the Saturday Downtown Tracy Farmer’s Market a part of your weekend routine.  Year round Market from 8-1pm! \nYou’ll find the freshest fruits and veggies\, colorful bouquets\, and yummy pastries and other prepared foods. We’ll see you there!  \n  \n \n  \n 
URL:https://tracycitycenter.com/event/downtown-tracy-farmers-market-7-22-23-2/2024-04-20
LOCATION:Downtown Tracy Farmers’ Market\, North Central Avenue & 9th Street\, Tracy\, CA\, 95376\, United States
CATEGORIES:Events,Farmers' Market
ATTACH;FMTTYPE=image/jpeg:https://tracycitycenter.com/wp-content/uploads/FarmersMarket-24_IG-01-2.jpg
END:VEVENT
BEGIN:VEVENT
DTSTART;TZID=America/Los_Angeles:20240413T080000
DTEND;TZID=America/Los_Angeles:20240413T130000
DTSTAMP:20260420T010046
CREATED:20230816T010431Z
LAST-MODIFIED:20240430T040333Z
UID:10001716-1712995200-1713013200@tracycitycenter.com
SUMMARY:Downtown Tracy Farmers' Market
DESCRIPTION:Make the Saturday Downtown Tracy Farmer’s Market a part of your weekend routine.  Year round Market from 8-1pm! \nYou’ll find the freshest fruits and veggies\, colorful bouquets\, and yummy pastries and other prepared foods. We’ll see you there!  \n  \n \n  \n 
URL:https://tracycitycenter.com/event/downtown-tracy-farmers-market-7-22-23-2/2024-04-13
LOCATION:Downtown Tracy Farmers’ Market\, North Central Avenue & 9th Street\, Tracy\, CA\, 95376\, United States
CATEGORIES:Events,Farmers' Market
ATTACH;FMTTYPE=image/jpeg:https://tracycitycenter.com/wp-content/uploads/FarmersMarket-24_IG-01-2.jpg
END:VEVENT
BEGIN:VEVENT
DTSTART;TZID=America/Los_Angeles:20240406T080000
DTEND;TZID=America/Los_Angeles:20240406T130000
DTSTAMP:20260420T010046
CREATED:20230816T010431Z
LAST-MODIFIED:20240430T040333Z
UID:10001715-1712390400-1712408400@tracycitycenter.com
SUMMARY:Downtown Tracy Farmers' Market
DESCRIPTION:Make the Saturday Downtown Tracy Farmer’s Market a part of your weekend routine.  Year round Market from 8-1pm! \nYou’ll find the freshest fruits and veggies\, colorful bouquets\, and yummy pastries and other prepared foods. We’ll see you there!  \n  \n \n  \n 
URL:https://tracycitycenter.com/event/downtown-tracy-farmers-market-7-22-23-2/2024-04-06
LOCATION:Downtown Tracy Farmers’ Market\, North Central Avenue & 9th Street\, Tracy\, CA\, 95376\, United States
CATEGORIES:Events,Farmers' Market
ATTACH;FMTTYPE=image/jpeg:https://tracycitycenter.com/wp-content/uploads/FarmersMarket-24_IG-01-2.jpg
END:VEVENT
BEGIN:VEVENT
DTSTART;TZID=America/Los_Angeles:20240330T080000
DTEND;TZID=America/Los_Angeles:20240330T130000
DTSTAMP:20260420T010046
CREATED:20230816T010431Z
LAST-MODIFIED:20240430T040333Z
UID:10001714-1711785600-1711803600@tracycitycenter.com
SUMMARY:Downtown Tracy Farmers' Market
DESCRIPTION:Make the Saturday Downtown Tracy Farmer’s Market a part of your weekend routine.  Year round Market from 8-1pm! \nYou’ll find the freshest fruits and veggies\, colorful bouquets\, and yummy pastries and other prepared foods. We’ll see you there!  \n  \n \n  \n 
URL:https://tracycitycenter.com/event/downtown-tracy-farmers-market-7-22-23-2/2024-03-30
LOCATION:Downtown Tracy Farmers’ Market\, North Central Avenue & 9th Street\, Tracy\, CA\, 95376\, United States
CATEGORIES:Events,Farmers' Market
ATTACH;FMTTYPE=image/jpeg:https://tracycitycenter.com/wp-content/uploads/FarmersMarket-24_IG-01-2.jpg
END:VEVENT
BEGIN:VEVENT
DTSTART;TZID=America/Los_Angeles:20240323T080000
DTEND;TZID=America/Los_Angeles:20240323T130000
DTSTAMP:20260420T010046
CREATED:20230816T010431Z
LAST-MODIFIED:20240430T040333Z
UID:10001713-1711180800-1711198800@tracycitycenter.com
SUMMARY:Downtown Tracy Farmers' Market
DESCRIPTION:Make the Saturday Downtown Tracy Farmer’s Market a part of your weekend routine.  Year round Market from 8-1pm! \nYou’ll find the freshest fruits and veggies\, colorful bouquets\, and yummy pastries and other prepared foods. We’ll see you there!  \n  \n \n  \n 
URL:https://tracycitycenter.com/event/downtown-tracy-farmers-market-7-22-23-2/2024-03-23
LOCATION:Downtown Tracy Farmers’ Market\, North Central Avenue & 9th Street\, Tracy\, CA\, 95376\, United States
CATEGORIES:Events,Farmers' Market
ATTACH;FMTTYPE=image/jpeg:https://tracycitycenter.com/wp-content/uploads/FarmersMarket-24_IG-01-2.jpg
END:VEVENT
BEGIN:VEVENT
DTSTART;TZID=America/Los_Angeles:20240316T080000
DTEND;TZID=America/Los_Angeles:20240316T130000
DTSTAMP:20260420T010046
CREATED:20230816T010431Z
LAST-MODIFIED:20240430T040333Z
UID:10001712-1710576000-1710594000@tracycitycenter.com
SUMMARY:Downtown Tracy Farmers' Market
DESCRIPTION:Make the Saturday Downtown Tracy Farmer’s Market a part of your weekend routine.  Year round Market from 8-1pm! \nYou’ll find the freshest fruits and veggies\, colorful bouquets\, and yummy pastries and other prepared foods. We’ll see you there!  \n  \n \n  \n 
URL:https://tracycitycenter.com/event/downtown-tracy-farmers-market-7-22-23-2/2024-03-16
LOCATION:Downtown Tracy Farmers’ Market\, North Central Avenue & 9th Street\, Tracy\, CA\, 95376\, United States
CATEGORIES:Events,Farmers' Market
ATTACH;FMTTYPE=image/jpeg:https://tracycitycenter.com/wp-content/uploads/FarmersMarket-24_IG-01-2.jpg
END:VEVENT
BEGIN:VEVENT
DTSTART;TZID=America/Los_Angeles:20240309T080000
DTEND;TZID=America/Los_Angeles:20240309T130000
DTSTAMP:20260420T010046
CREATED:20230816T010431Z
LAST-MODIFIED:20240430T040333Z
UID:10001711-1709971200-1709989200@tracycitycenter.com
SUMMARY:Downtown Tracy Farmers' Market
DESCRIPTION:Make the Saturday Downtown Tracy Farmer’s Market a part of your weekend routine.  Year round Market from 8-1pm! \nYou’ll find the freshest fruits and veggies\, colorful bouquets\, and yummy pastries and other prepared foods. We’ll see you there!  \n  \n \n  \n 
URL:https://tracycitycenter.com/event/downtown-tracy-farmers-market-7-22-23-2/2024-03-09
LOCATION:Downtown Tracy Farmers’ Market\, North Central Avenue & 9th Street\, Tracy\, CA\, 95376\, United States
CATEGORIES:Events,Farmers' Market
ATTACH;FMTTYPE=image/jpeg:https://tracycitycenter.com/wp-content/uploads/FarmersMarket-24_IG-01-2.jpg
END:VEVENT
BEGIN:VEVENT
DTSTART;TZID=America/Los_Angeles:20240302T080000
DTEND;TZID=America/Los_Angeles:20240302T130000
DTSTAMP:20260420T010046
CREATED:20230816T010431Z
LAST-MODIFIED:20240430T040333Z
UID:10001710-1709366400-1709384400@tracycitycenter.com
SUMMARY:Downtown Tracy Farmers' Market
DESCRIPTION:Make the Saturday Downtown Tracy Farmer’s Market a part of your weekend routine.  Year round Market from 8-1pm! \nYou’ll find the freshest fruits and veggies\, colorful bouquets\, and yummy pastries and other prepared foods. We’ll see you there!  \n  \n \n  \n 
URL:https://tracycitycenter.com/event/downtown-tracy-farmers-market-7-22-23-2/2024-03-02
LOCATION:Downtown Tracy Farmers’ Market\, North Central Avenue & 9th Street\, Tracy\, CA\, 95376\, United States
CATEGORIES:Events,Farmers' Market
ATTACH;FMTTYPE=image/jpeg:https://tracycitycenter.com/wp-content/uploads/FarmersMarket-24_IG-01-2.jpg
END:VEVENT
BEGIN:VEVENT
DTSTART;TZID=America/Los_Angeles:20240224T080000
DTEND;TZID=America/Los_Angeles:20240224T130000
DTSTAMP:20260420T010046
CREATED:20230816T010431Z
LAST-MODIFIED:20240430T040333Z
UID:10001709-1708761600-1708779600@tracycitycenter.com
SUMMARY:Downtown Tracy Farmers' Market
DESCRIPTION:Make the Saturday Downtown Tracy Farmer’s Market a part of your weekend routine.  Year round Market from 8-1pm! \nYou’ll find the freshest fruits and veggies\, colorful bouquets\, and yummy pastries and other prepared foods. We’ll see you there!  \n  \n \n  \n 
URL:https://tracycitycenter.com/event/downtown-tracy-farmers-market-7-22-23-2/2024-02-24
LOCATION:Downtown Tracy Farmers’ Market\, North Central Avenue & 9th Street\, Tracy\, CA\, 95376\, United States
CATEGORIES:Events,Farmers' Market
ATTACH;FMTTYPE=image/jpeg:https://tracycitycenter.com/wp-content/uploads/FarmersMarket-24_IG-01-2.jpg
END:VEVENT
BEGIN:VEVENT
DTSTART;TZID=America/Los_Angeles:20240217T080000
DTEND;TZID=America/Los_Angeles:20240217T130000
DTSTAMP:20260420T010046
CREATED:20230816T010431Z
LAST-MODIFIED:20240430T040333Z
UID:10001708-1708156800-1708174800@tracycitycenter.com
SUMMARY:Downtown Tracy Farmers' Market
DESCRIPTION:Make the Saturday Downtown Tracy Farmer’s Market a part of your weekend routine.  Year round Market from 8-1pm! \nYou’ll find the freshest fruits and veggies\, colorful bouquets\, and yummy pastries and other prepared foods. We’ll see you there!  \n  \n \n  \n 
URL:https://tracycitycenter.com/event/downtown-tracy-farmers-market-7-22-23-2/2024-02-17
LOCATION:Downtown Tracy Farmers’ Market\, North Central Avenue & 9th Street\, Tracy\, CA\, 95376\, United States
CATEGORIES:Events,Farmers' Market
ATTACH;FMTTYPE=image/jpeg:https://tracycitycenter.com/wp-content/uploads/FarmersMarket-24_IG-01-2.jpg
END:VEVENT
BEGIN:VEVENT
DTSTART;TZID=America/Los_Angeles:20240210T080000
DTEND;TZID=America/Los_Angeles:20240210T130000
DTSTAMP:20260420T010046
CREATED:20230816T010431Z
LAST-MODIFIED:20240430T040333Z
UID:10001707-1707552000-1707570000@tracycitycenter.com
SUMMARY:Downtown Tracy Farmers' Market
DESCRIPTION:Make the Saturday Downtown Tracy Farmer’s Market a part of your weekend routine.  Year round Market from 8-1pm! \nYou’ll find the freshest fruits and veggies\, colorful bouquets\, and yummy pastries and other prepared foods. We’ll see you there!  \n  \n \n  \n 
URL:https://tracycitycenter.com/event/downtown-tracy-farmers-market-7-22-23-2/2024-02-10
LOCATION:Downtown Tracy Farmers’ Market\, North Central Avenue & 9th Street\, Tracy\, CA\, 95376\, United States
CATEGORIES:Events,Farmers' Market
ATTACH;FMTTYPE=image/jpeg:https://tracycitycenter.com/wp-content/uploads/FarmersMarket-24_IG-01-2.jpg
END:VEVENT
BEGIN:VEVENT
DTSTART;TZID=America/Los_Angeles:20240203T080000
DTEND;TZID=America/Los_Angeles:20240203T130000
DTSTAMP:20260420T010046
CREATED:20230816T010431Z
LAST-MODIFIED:20240430T040333Z
UID:10001706-1706947200-1706965200@tracycitycenter.com
SUMMARY:Downtown Tracy Farmers' Market
DESCRIPTION:Make the Saturday Downtown Tracy Farmer’s Market a part of your weekend routine.  Year round Market from 8-1pm! \nYou’ll find the freshest fruits and veggies\, colorful bouquets\, and yummy pastries and other prepared foods. We’ll see you there!  \n  \n \n  \n 
URL:https://tracycitycenter.com/event/downtown-tracy-farmers-market-7-22-23-2/2024-02-03
LOCATION:Downtown Tracy Farmers’ Market\, North Central Avenue & 9th Street\, Tracy\, CA\, 95376\, United States
CATEGORIES:Events,Farmers' Market
ATTACH;FMTTYPE=image/jpeg:https://tracycitycenter.com/wp-content/uploads/FarmersMarket-24_IG-01-2.jpg
END:VEVENT
BEGIN:VEVENT
DTSTART;TZID=America/Los_Angeles:20240127T080000
DTEND;TZID=America/Los_Angeles:20240127T130000
DTSTAMP:20260420T010046
CREATED:20230816T010431Z
LAST-MODIFIED:20240430T040333Z
UID:10001705-1706342400-1706360400@tracycitycenter.com
SUMMARY:Downtown Tracy Farmers' Market
DESCRIPTION:Make the Saturday Downtown Tracy Farmer’s Market a part of your weekend routine.  Year round Market from 8-1pm! \nYou’ll find the freshest fruits and veggies\, colorful bouquets\, and yummy pastries and other prepared foods. We’ll see you there!  \n  \n \n  \n 
URL:https://tracycitycenter.com/event/downtown-tracy-farmers-market-7-22-23-2/2024-01-27
LOCATION:Downtown Tracy Farmers’ Market\, North Central Avenue & 9th Street\, Tracy\, CA\, 95376\, United States
CATEGORIES:Events,Farmers' Market
ATTACH;FMTTYPE=image/jpeg:https://tracycitycenter.com/wp-content/uploads/FarmersMarket-24_IG-01-2.jpg
END:VEVENT
BEGIN:VEVENT
DTSTART;TZID=America/Los_Angeles:20240120T080000
DTEND;TZID=America/Los_Angeles:20240120T130000
DTSTAMP:20260420T010046
CREATED:20230816T010431Z
LAST-MODIFIED:20240430T040333Z
UID:10001704-1705737600-1705755600@tracycitycenter.com
SUMMARY:Downtown Tracy Farmers' Market
DESCRIPTION:Make the Saturday Downtown Tracy Farmer’s Market a part of your weekend routine.  Year round Market from 8-1pm! \nYou’ll find the freshest fruits and veggies\, colorful bouquets\, and yummy pastries and other prepared foods. We’ll see you there!  \n  \n \n  \n 
URL:https://tracycitycenter.com/event/downtown-tracy-farmers-market-7-22-23-2/2024-01-20
LOCATION:Downtown Tracy Farmers’ Market\, North Central Avenue & 9th Street\, Tracy\, CA\, 95376\, United States
CATEGORIES:Events,Farmers' Market
ATTACH;FMTTYPE=image/jpeg:https://tracycitycenter.com/wp-content/uploads/FarmersMarket-24_IG-01-2.jpg
END:VEVENT
BEGIN:VEVENT
DTSTART;TZID=America/Los_Angeles:20240113T080000
DTEND;TZID=America/Los_Angeles:20240113T130000
DTSTAMP:20260420T010046
CREATED:20230816T010431Z
LAST-MODIFIED:20240430T040333Z
UID:10001703-1705132800-1705150800@tracycitycenter.com
SUMMARY:Downtown Tracy Farmers' Market
DESCRIPTION:Make the Saturday Downtown Tracy Farmer’s Market a part of your weekend routine.  Year round Market from 8-1pm! \nYou’ll find the freshest fruits and veggies\, colorful bouquets\, and yummy pastries and other prepared foods. We’ll see you there!  \n  \n \n  \n 
URL:https://tracycitycenter.com/event/downtown-tracy-farmers-market-7-22-23-2/2024-01-13
LOCATION:Downtown Tracy Farmers’ Market\, North Central Avenue & 9th Street\, Tracy\, CA\, 95376\, United States
CATEGORIES:Events,Farmers' Market
ATTACH;FMTTYPE=image/jpeg:https://tracycitycenter.com/wp-content/uploads/FarmersMarket-24_IG-01-2.jpg
END:VEVENT
BEGIN:VEVENT
DTSTART;TZID=America/Los_Angeles:20240106T080000
DTEND;TZID=America/Los_Angeles:20240106T130000
DTSTAMP:20260420T010046
CREATED:20230816T010431Z
LAST-MODIFIED:20240430T040333Z
UID:10001702-1704528000-1704546000@tracycitycenter.com
SUMMARY:Downtown Tracy Farmers' Market
DESCRIPTION:Make the Saturday Downtown Tracy Farmer’s Market a part of your weekend routine.  Year round Market from 8-1pm! \nYou’ll find the freshest fruits and veggies\, colorful bouquets\, and yummy pastries and other prepared foods. We’ll see you there!  \n  \n \n  \n 
URL:https://tracycitycenter.com/event/downtown-tracy-farmers-market-7-22-23-2/2024-01-06
LOCATION:Downtown Tracy Farmers’ Market\, North Central Avenue & 9th Street\, Tracy\, CA\, 95376\, United States
CATEGORIES:Events,Farmers' Market
ATTACH;FMTTYPE=image/jpeg:https://tracycitycenter.com/wp-content/uploads/FarmersMarket-24_IG-01-2.jpg
END:VEVENT
BEGIN:VEVENT
DTSTART;TZID=America/Los_Angeles:20231230T080000
DTEND;TZID=America/Los_Angeles:20231230T130000
DTSTAMP:20260420T010046
CREATED:20230816T010431Z
LAST-MODIFIED:20240430T040333Z
UID:10001701-1703923200-1703941200@tracycitycenter.com
SUMMARY:Downtown Tracy Farmers' Market
DESCRIPTION:Make the Saturday Downtown Tracy Farmer’s Market a part of your weekend routine.  Year round Market from 8-1pm! \nYou’ll find the freshest fruits and veggies\, colorful bouquets\, and yummy pastries and other prepared foods. We’ll see you there!  \n  \n \n  \n 
URL:https://tracycitycenter.com/event/downtown-tracy-farmers-market-7-22-23-2/2023-12-30
LOCATION:Downtown Tracy Farmers’ Market\, North Central Avenue & 9th Street\, Tracy\, CA\, 95376\, United States
CATEGORIES:Events,Farmers' Market
ATTACH;FMTTYPE=image/jpeg:https://tracycitycenter.com/wp-content/uploads/FarmersMarket-24_IG-01-2.jpg
END:VEVENT
BEGIN:VEVENT
DTSTART;TZID=America/Los_Angeles:20231223T080000
DTEND;TZID=America/Los_Angeles:20231223T130000
DTSTAMP:20260420T010046
CREATED:20230816T010431Z
LAST-MODIFIED:20240430T040333Z
UID:10001700-1703318400-1703336400@tracycitycenter.com
SUMMARY:Downtown Tracy Farmers' Market
DESCRIPTION:Make the Saturday Downtown Tracy Farmer’s Market a part of your weekend routine.  Year round Market from 8-1pm! \nYou’ll find the freshest fruits and veggies\, colorful bouquets\, and yummy pastries and other prepared foods. We’ll see you there!  \n  \n \n  \n 
URL:https://tracycitycenter.com/event/downtown-tracy-farmers-market-7-22-23-2/2023-12-23
LOCATION:Downtown Tracy Farmers’ Market\, North Central Avenue & 9th Street\, Tracy\, CA\, 95376\, United States
CATEGORIES:Events,Farmers' Market
ATTACH;FMTTYPE=image/jpeg:https://tracycitycenter.com/wp-content/uploads/FarmersMarket-24_IG-01-2.jpg
END:VEVENT
END:VCALENDAR